BEGIN:VCALENDAR
VERSION:2.0
PRODID:ics
BEGIN:VEVENT
UID:69e8d30348b7e
DTSTART;TZID=Asia/Bangkok:20260428T111900
SEQUENCE:0
TRANSP:OPAQUE
DTEND;TZID=Asia/Bangkok:20260428T111900
SUMMARY:การประชุมสามัญผู้ถือหุ
 ้นประจำปี 2569
CLASS:PUBLIC
DESCRIPTION:10:30 น.ผ่านสื่ออิเล็กทรอ
 นิกส์เท่านั้น
X-ALT-DESC;FMTTYPE=text/html:<div class=\"card__item\">\n <div class=\"card
 __icon\"><i class=\"icon-clock\"></i></div>\n <div class=\"card__time\">10
 :30 น.</div>\n </div>\n <div class=\"card__item\">\n <div class=\"card__
 icon\"><i class=\"icon-pin\"></i></div>\n <div class=\"card__detail\">ผ
 ่านสื่ออิเล็กทรอนิกส์เท่
 านั้น</div>\n </div>
DTSTAMP:20260422T135411Z
END:VEVENT
END:VCALENDAR